BEGIN:VCALENDAR
VERSION:2.0
PRODID:-//EFG Coburg - ECPv6.15.20//NONSGML v1.0//EN
CALSCALE:GREGORIAN
METHOD:PUBLISH
X-WR-CALNAME:EFG Coburg
X-ORIGINAL-URL:https://efg-coburg.de
X-WR-CALDESC:Veranstaltungen für EFG Coburg
REFRESH-INTERVAL;VALUE=DURATION:PT1H
X-Robots-Tag:noindex
X-PUBLISHED-TTL:PT1H
BEGIN:VTIMEZONE
TZID:Europe/Paris
BEGIN:DAYLIGHT
TZOFFSETFROM:+0100
TZOFFSETTO:+0200
TZNAME:CEST
DTSTART:20250330T010000
END:DAYLIGHT
BEGIN:STANDARD
TZOFFSETFROM:+0200
TZOFFSETTO:+0100
TZNAME:CET
DTSTART:20251026T010000
END:STANDARD
BEGIN:DAYLIGHT
TZOFFSETFROM:+0100
TZOFFSETTO:+0200
TZNAME:CEST
DTSTART:20260329T010000
END:DAYLIGHT
BEGIN:STANDARD
TZOFFSETFROM:+0200
TZOFFSETTO:+0100
TZNAME:CET
DTSTART:20261025T010000
END:STANDARD
BEGIN:DAYLIGHT
TZOFFSETFROM:+0100
TZOFFSETTO:+0200
TZNAME:CEST
DTSTART:20270328T010000
END:DAYLIGHT
BEGIN:STANDARD
TZOFFSETFROM:+0200
TZOFFSETTO:+0100
TZNAME:CET
DTSTART:20271031T010000
END:STANDARD
END:VTIMEZONE
BEGIN:VTIMEZONE
TZID:Europe/Berlin
BEGIN:DAYLIGHT
TZOFFSETFROM:+0100
TZOFFSETTO:+0200
TZNAME:CEST
DTSTART:20250330T010000
END:DAYLIGHT
BEGIN:STANDARD
TZOFFSETFROM:+0200
TZOFFSETTO:+0100
TZNAME:CET
DTSTART:20251026T010000
END:STANDARD
BEGIN:DAYLIGHT
TZOFFSETFROM:+0100
TZOFFSETTO:+0200
TZNAME:CEST
DTSTART:20260329T010000
END:DAYLIGHT
BEGIN:STANDARD
TZOFFSETFROM:+0200
TZOFFSETTO:+0100
TZNAME:CET
DTSTART:20261025T010000
END:STANDARD
BEGIN:DAYLIGHT
TZOFFSETFROM:+0100
TZOFFSETTO:+0200
TZNAME:CEST
DTSTART:20270328T010000
END:DAYLIGHT
BEGIN:STANDARD
TZOFFSETFROM:+0200
TZOFFSETTO:+0100
TZNAME:CET
DTSTART:20271031T010000
END:STANDARD
END:VTIMEZONE
BEGIN:VEVENT
DTSTART;TZID=Europe/Paris:20260816T100000
DTEND;TZID=Europe/Paris:20260816T113000
DTSTAMP:20260422T131919
CREATED:20241211T190315Z
LAST-MODIFIED:20241211T190400Z
UID:10000114-1786874400-1786879800@efg-coburg.de
SUMMARY:Gottesdienst
DESCRIPTION:Jeden Sonntag feiern wir gemeinsam Gottesdienst. Beginn ist um 10:00 Uhr. Jung und Alt kommen zusammen\, um Gott zu erleben\, Gemeinschaft zu haben\, gemeinsam zu singen\, zu beten und auf die Predigt zu hören. Manchmal ist der Gottesdienst auch geprägt von besonderen Elementen\, wie Theaterspiel oder besonderen musikalischen Beiträgen. \nWährend des Gottesdienstes findet für Kinder ab drei Jahren ein altersgerechter Kindergottesdienst statt. Unser Kindergottesdienstteam gestaltet mit viel Liebe und Ideenreichtum diese Veranstaltung. Jüngere Kinder können mit Eltern in unserem Aquarium (Eltern-Kind-Raum) spielen und gleichzeitig am Gottesdienst teilnehmen. Tonübertragung und ein großes Sichtfenster ermöglichen die ungestörte Teilnahme. \nAn jedem ersten Sonntag im Monat feiern wir mit Brot und Traubensaft das Abendmahl. Hier können wir Gott intensiv erfahren. Der letzte Sonntag im Monat bietet den Gottesdienstbesuchern die Möglichkeit\, von ihren persönlichen Erfahrungen mit Jesus Christus\, Gott\, dem Vater und dem Heiligen Geist zu berichten. Diese Erlebnisse stärken unseren Glauben. \nNach dem Gottesdienst können wir am Kirchencafé miteinander reden oder auch die Angebote des Büchertisches in Anspruch nehmen.
URL:https://efg-coburg.de/event/gottesdienst-copy-2/2026-08-16
LOCATION:Gemeindehaus EFG Coburg\, Eichhofweg 18\, Coburg\, Bayern\, 96450
ATTACH;FMTTYPE=image/jpeg:https://efg-coburg.de/wp-content/uploads/2024/06/Hero-1.jpg
END:VEVENT
BEGIN:VEVENT
DTSTART;TZID=Europe/Berlin:20260817T180000
DTEND;TZID=Europe/Berlin:20260817T180000
DTSTAMP:20260422T131919
CREATED:20241212T071326Z
LAST-MODIFIED:20241212T145751Z
UID:10000371-1786989600-1786989600@efg-coburg.de
SUMMARY:Gebet am Kreuz
DESCRIPTION:
URL:https://efg-coburg.de/event/gebet-am-kreuz-5/2026-08-17
LOCATION:Gemeindehaus EFG Coburg\, Eichhofweg 18\, Coburg\, Bayern\, 96450
ATTACH;FMTTYPE=image/jpeg:https://efg-coburg.de/wp-content/uploads/2024/06/prayer.jpg
END:VEVENT
BEGIN:VEVENT
DTSTART;TZID=Europe/Berlin:20260818T193000
DTEND;TZID=Europe/Berlin:20260818T203000
DTSTAMP:20260422T131919
CREATED:20241212T144047Z
LAST-MODIFIED:20241213T160224Z
UID:10000631-1787081400-1787085000@efg-coburg.de
SUMMARY:Gemeindegebet
DESCRIPTION:
URL:https://efg-coburg.de/event/gemeindegebet/2026-08-18
LOCATION:Gemeindehaus EFG Coburg\, Eichhofweg 18\, Coburg\, Bayern\, 96450
ATTACH;FMTTYPE=image/jpeg:https://efg-coburg.de/wp-content/uploads/2024/06/Angebote.jpg
END:VEVENT
BEGIN:VEVENT
DTSTART;TZID=Europe/Paris:20260823T100000
DTEND;TZID=Europe/Paris:20260823T113000
DTSTAMP:20260422T131919
CREATED:20241211T190315Z
LAST-MODIFIED:20241211T190400Z
UID:10000115-1787479200-1787484600@efg-coburg.de
SUMMARY:Gottesdienst
DESCRIPTION:Jeden Sonntag feiern wir gemeinsam Gottesdienst. Beginn ist um 10:00 Uhr. Jung und Alt kommen zusammen\, um Gott zu erleben\, Gemeinschaft zu haben\, gemeinsam zu singen\, zu beten und auf die Predigt zu hören. Manchmal ist der Gottesdienst auch geprägt von besonderen Elementen\, wie Theaterspiel oder besonderen musikalischen Beiträgen. \nWährend des Gottesdienstes findet für Kinder ab drei Jahren ein altersgerechter Kindergottesdienst statt. Unser Kindergottesdienstteam gestaltet mit viel Liebe und Ideenreichtum diese Veranstaltung. Jüngere Kinder können mit Eltern in unserem Aquarium (Eltern-Kind-Raum) spielen und gleichzeitig am Gottesdienst teilnehmen. Tonübertragung und ein großes Sichtfenster ermöglichen die ungestörte Teilnahme. \nAn jedem ersten Sonntag im Monat feiern wir mit Brot und Traubensaft das Abendmahl. Hier können wir Gott intensiv erfahren. Der letzte Sonntag im Monat bietet den Gottesdienstbesuchern die Möglichkeit\, von ihren persönlichen Erfahrungen mit Jesus Christus\, Gott\, dem Vater und dem Heiligen Geist zu berichten. Diese Erlebnisse stärken unseren Glauben. \nNach dem Gottesdienst können wir am Kirchencafé miteinander reden oder auch die Angebote des Büchertisches in Anspruch nehmen.
URL:https://efg-coburg.de/event/gottesdienst-copy-2/2026-08-23
LOCATION:Gemeindehaus EFG Coburg\, Eichhofweg 18\, Coburg\, Bayern\, 96450
ATTACH;FMTTYPE=image/jpeg:https://efg-coburg.de/wp-content/uploads/2024/06/Hero-1.jpg
END:VEVENT
BEGIN:VEVENT
DTSTART;TZID=Europe/Berlin:20260824T180000
DTEND;TZID=Europe/Berlin:20260824T180000
DTSTAMP:20260422T131919
CREATED:20241212T071326Z
LAST-MODIFIED:20241212T145751Z
UID:10000372-1787594400-1787594400@efg-coburg.de
SUMMARY:Gebet am Kreuz
DESCRIPTION:
URL:https://efg-coburg.de/event/gebet-am-kreuz-5/2026-08-24
LOCATION:Gemeindehaus EFG Coburg\, Eichhofweg 18\, Coburg\, Bayern\, 96450
ATTACH;FMTTYPE=image/jpeg:https://efg-coburg.de/wp-content/uploads/2024/06/prayer.jpg
END:VEVENT
BEGIN:VEVENT
DTSTART;TZID=Europe/Berlin:20260825T193000
DTEND;TZID=Europe/Berlin:20260825T203000
DTSTAMP:20260422T131919
CREATED:20241212T144047Z
LAST-MODIFIED:20241213T160224Z
UID:10000632-1787686200-1787689800@efg-coburg.de
SUMMARY:Gemeindegebet
DESCRIPTION:
URL:https://efg-coburg.de/event/gemeindegebet/2026-08-25
LOCATION:Gemeindehaus EFG Coburg\, Eichhofweg 18\, Coburg\, Bayern\, 96450
ATTACH;FMTTYPE=image/jpeg:https://efg-coburg.de/wp-content/uploads/2024/06/Angebote.jpg
END:VEVENT
BEGIN:VEVENT
DTSTART;TZID=Europe/Paris:20260830T100000
DTEND;TZID=Europe/Paris:20260830T113000
DTSTAMP:20260422T131919
CREATED:20241211T190315Z
LAST-MODIFIED:20241211T190400Z
UID:10000116-1788084000-1788089400@efg-coburg.de
SUMMARY:Gottesdienst
DESCRIPTION:Jeden Sonntag feiern wir gemeinsam Gottesdienst. Beginn ist um 10:00 Uhr. Jung und Alt kommen zusammen\, um Gott zu erleben\, Gemeinschaft zu haben\, gemeinsam zu singen\, zu beten und auf die Predigt zu hören. Manchmal ist der Gottesdienst auch geprägt von besonderen Elementen\, wie Theaterspiel oder besonderen musikalischen Beiträgen. \nWährend des Gottesdienstes findet für Kinder ab drei Jahren ein altersgerechter Kindergottesdienst statt. Unser Kindergottesdienstteam gestaltet mit viel Liebe und Ideenreichtum diese Veranstaltung. Jüngere Kinder können mit Eltern in unserem Aquarium (Eltern-Kind-Raum) spielen und gleichzeitig am Gottesdienst teilnehmen. Tonübertragung und ein großes Sichtfenster ermöglichen die ungestörte Teilnahme. \nAn jedem ersten Sonntag im Monat feiern wir mit Brot und Traubensaft das Abendmahl. Hier können wir Gott intensiv erfahren. Der letzte Sonntag im Monat bietet den Gottesdienstbesuchern die Möglichkeit\, von ihren persönlichen Erfahrungen mit Jesus Christus\, Gott\, dem Vater und dem Heiligen Geist zu berichten. Diese Erlebnisse stärken unseren Glauben. \nNach dem Gottesdienst können wir am Kirchencafé miteinander reden oder auch die Angebote des Büchertisches in Anspruch nehmen.
URL:https://efg-coburg.de/event/gottesdienst-copy-2/2026-08-30
LOCATION:Gemeindehaus EFG Coburg\, Eichhofweg 18\, Coburg\, Bayern\, 96450
ATTACH;FMTTYPE=image/jpeg:https://efg-coburg.de/wp-content/uploads/2024/06/Hero-1.jpg
END:VEVENT
BEGIN:VEVENT
DTSTART;TZID=Europe/Berlin:20260831T180000
DTEND;TZID=Europe/Berlin:20260831T180000
DTSTAMP:20260422T131919
CREATED:20241212T071326Z
LAST-MODIFIED:20241212T145751Z
UID:10000373-1788199200-1788199200@efg-coburg.de
SUMMARY:Gebet am Kreuz
DESCRIPTION:
URL:https://efg-coburg.de/event/gebet-am-kreuz-5/2026-08-31
LOCATION:Gemeindehaus EFG Coburg\, Eichhofweg 18\, Coburg\, Bayern\, 96450
ATTACH;FMTTYPE=image/jpeg:https://efg-coburg.de/wp-content/uploads/2024/06/prayer.jpg
END:VEVENT
BEGIN:VEVENT
DTSTART;TZID=Europe/Berlin:20260901T193000
DTEND;TZID=Europe/Berlin:20260901T203000
DTSTAMP:20260422T131919
CREATED:20241212T144047Z
LAST-MODIFIED:20241213T160224Z
UID:10000633-1788291000-1788294600@efg-coburg.de
SUMMARY:Gemeindegebet
DESCRIPTION:
URL:https://efg-coburg.de/event/gemeindegebet/2026-09-01
LOCATION:Gemeindehaus EFG Coburg\, Eichhofweg 18\, Coburg\, Bayern\, 96450
ATTACH;FMTTYPE=image/jpeg:https://efg-coburg.de/wp-content/uploads/2024/06/Angebote.jpg
END:VEVENT
BEGIN:VEVENT
DTSTART;TZID=Europe/Paris:20260906T100000
DTEND;TZID=Europe/Paris:20260906T113000
DTSTAMP:20260422T131919
CREATED:20241211T190315Z
LAST-MODIFIED:20241211T190400Z
UID:10000117-1788688800-1788694200@efg-coburg.de
SUMMARY:Gottesdienst
DESCRIPTION:Jeden Sonntag feiern wir gemeinsam Gottesdienst. Beginn ist um 10:00 Uhr. Jung und Alt kommen zusammen\, um Gott zu erleben\, Gemeinschaft zu haben\, gemeinsam zu singen\, zu beten und auf die Predigt zu hören. Manchmal ist der Gottesdienst auch geprägt von besonderen Elementen\, wie Theaterspiel oder besonderen musikalischen Beiträgen. \nWährend des Gottesdienstes findet für Kinder ab drei Jahren ein altersgerechter Kindergottesdienst statt. Unser Kindergottesdienstteam gestaltet mit viel Liebe und Ideenreichtum diese Veranstaltung. Jüngere Kinder können mit Eltern in unserem Aquarium (Eltern-Kind-Raum) spielen und gleichzeitig am Gottesdienst teilnehmen. Tonübertragung und ein großes Sichtfenster ermöglichen die ungestörte Teilnahme. \nAn jedem ersten Sonntag im Monat feiern wir mit Brot und Traubensaft das Abendmahl. Hier können wir Gott intensiv erfahren. Der letzte Sonntag im Monat bietet den Gottesdienstbesuchern die Möglichkeit\, von ihren persönlichen Erfahrungen mit Jesus Christus\, Gott\, dem Vater und dem Heiligen Geist zu berichten. Diese Erlebnisse stärken unseren Glauben. \nNach dem Gottesdienst können wir am Kirchencafé miteinander reden oder auch die Angebote des Büchertisches in Anspruch nehmen.
URL:https://efg-coburg.de/event/gottesdienst-copy-2/2026-09-06
LOCATION:Gemeindehaus EFG Coburg\, Eichhofweg 18\, Coburg\, Bayern\, 96450
ATTACH;FMTTYPE=image/jpeg:https://efg-coburg.de/wp-content/uploads/2024/06/Hero-1.jpg
END:VEVENT
BEGIN:VEVENT
DTSTART;TZID=Europe/Berlin:20260907T180000
DTEND;TZID=Europe/Berlin:20260907T180000
DTSTAMP:20260422T131919
CREATED:20241212T071326Z
LAST-MODIFIED:20241212T145751Z
UID:10000374-1788804000-1788804000@efg-coburg.de
SUMMARY:Gebet am Kreuz
DESCRIPTION:
URL:https://efg-coburg.de/event/gebet-am-kreuz-5/2026-09-07
LOCATION:Gemeindehaus EFG Coburg\, Eichhofweg 18\, Coburg\, Bayern\, 96450
ATTACH;FMTTYPE=image/jpeg:https://efg-coburg.de/wp-content/uploads/2024/06/prayer.jpg
END:VEVENT
BEGIN:VEVENT
DTSTART;TZID=Europe/Berlin:20260908T193000
DTEND;TZID=Europe/Berlin:20260908T203000
DTSTAMP:20260422T131919
CREATED:20241212T144047Z
LAST-MODIFIED:20241213T160224Z
UID:10000634-1788895800-1788899400@efg-coburg.de
SUMMARY:Gemeindegebet
DESCRIPTION:
URL:https://efg-coburg.de/event/gemeindegebet/2026-09-08
LOCATION:Gemeindehaus EFG Coburg\, Eichhofweg 18\, Coburg\, Bayern\, 96450
ATTACH;FMTTYPE=image/jpeg:https://efg-coburg.de/wp-content/uploads/2024/06/Angebote.jpg
END:VEVENT
BEGIN:VEVENT
DTSTART;TZID=Europe/Paris:20260913T100000
DTEND;TZID=Europe/Paris:20260913T113000
DTSTAMP:20260422T131919
CREATED:20241211T190315Z
LAST-MODIFIED:20241211T190400Z
UID:10000118-1789293600-1789299000@efg-coburg.de
SUMMARY:Gottesdienst
DESCRIPTION:Jeden Sonntag feiern wir gemeinsam Gottesdienst. Beginn ist um 10:00 Uhr. Jung und Alt kommen zusammen\, um Gott zu erleben\, Gemeinschaft zu haben\, gemeinsam zu singen\, zu beten und auf die Predigt zu hören. Manchmal ist der Gottesdienst auch geprägt von besonderen Elementen\, wie Theaterspiel oder besonderen musikalischen Beiträgen. \nWährend des Gottesdienstes findet für Kinder ab drei Jahren ein altersgerechter Kindergottesdienst statt. Unser Kindergottesdienstteam gestaltet mit viel Liebe und Ideenreichtum diese Veranstaltung. Jüngere Kinder können mit Eltern in unserem Aquarium (Eltern-Kind-Raum) spielen und gleichzeitig am Gottesdienst teilnehmen. Tonübertragung und ein großes Sichtfenster ermöglichen die ungestörte Teilnahme. \nAn jedem ersten Sonntag im Monat feiern wir mit Brot und Traubensaft das Abendmahl. Hier können wir Gott intensiv erfahren. Der letzte Sonntag im Monat bietet den Gottesdienstbesuchern die Möglichkeit\, von ihren persönlichen Erfahrungen mit Jesus Christus\, Gott\, dem Vater und dem Heiligen Geist zu berichten. Diese Erlebnisse stärken unseren Glauben. \nNach dem Gottesdienst können wir am Kirchencafé miteinander reden oder auch die Angebote des Büchertisches in Anspruch nehmen.
URL:https://efg-coburg.de/event/gottesdienst-copy-2/2026-09-13
LOCATION:Gemeindehaus EFG Coburg\, Eichhofweg 18\, Coburg\, Bayern\, 96450
ATTACH;FMTTYPE=image/jpeg:https://efg-coburg.de/wp-content/uploads/2024/06/Hero-1.jpg
END:VEVENT
BEGIN:VEVENT
DTSTART;TZID=Europe/Berlin:20260914T180000
DTEND;TZID=Europe/Berlin:20260914T180000
DTSTAMP:20260422T131919
CREATED:20241212T071326Z
LAST-MODIFIED:20241212T145751Z
UID:10000375-1789408800-1789408800@efg-coburg.de
SUMMARY:Gebet am Kreuz
DESCRIPTION:
URL:https://efg-coburg.de/event/gebet-am-kreuz-5/2026-09-14
LOCATION:Gemeindehaus EFG Coburg\, Eichhofweg 18\, Coburg\, Bayern\, 96450
ATTACH;FMTTYPE=image/jpeg:https://efg-coburg.de/wp-content/uploads/2024/06/prayer.jpg
END:VEVENT
BEGIN:VEVENT
DTSTART;TZID=Europe/Berlin:20260915T193000
DTEND;TZID=Europe/Berlin:20260915T203000
DTSTAMP:20260422T131919
CREATED:20241212T144047Z
LAST-MODIFIED:20241213T160224Z
UID:10000635-1789500600-1789504200@efg-coburg.de
SUMMARY:Gemeindegebet
DESCRIPTION:
URL:https://efg-coburg.de/event/gemeindegebet/2026-09-15
LOCATION:Gemeindehaus EFG Coburg\, Eichhofweg 18\, Coburg\, Bayern\, 96450
ATTACH;FMTTYPE=image/jpeg:https://efg-coburg.de/wp-content/uploads/2024/06/Angebote.jpg
END:VEVENT
BEGIN:VEVENT
DTSTART;TZID=Europe/Paris:20260920T100000
DTEND;TZID=Europe/Paris:20260920T113000
DTSTAMP:20260422T131919
CREATED:20241211T190315Z
LAST-MODIFIED:20241211T190400Z
UID:10000119-1789898400-1789903800@efg-coburg.de
SUMMARY:Gottesdienst
DESCRIPTION:Jeden Sonntag feiern wir gemeinsam Gottesdienst. Beginn ist um 10:00 Uhr. Jung und Alt kommen zusammen\, um Gott zu erleben\, Gemeinschaft zu haben\, gemeinsam zu singen\, zu beten und auf die Predigt zu hören. Manchmal ist der Gottesdienst auch geprägt von besonderen Elementen\, wie Theaterspiel oder besonderen musikalischen Beiträgen. \nWährend des Gottesdienstes findet für Kinder ab drei Jahren ein altersgerechter Kindergottesdienst statt. Unser Kindergottesdienstteam gestaltet mit viel Liebe und Ideenreichtum diese Veranstaltung. Jüngere Kinder können mit Eltern in unserem Aquarium (Eltern-Kind-Raum) spielen und gleichzeitig am Gottesdienst teilnehmen. Tonübertragung und ein großes Sichtfenster ermöglichen die ungestörte Teilnahme. \nAn jedem ersten Sonntag im Monat feiern wir mit Brot und Traubensaft das Abendmahl. Hier können wir Gott intensiv erfahren. Der letzte Sonntag im Monat bietet den Gottesdienstbesuchern die Möglichkeit\, von ihren persönlichen Erfahrungen mit Jesus Christus\, Gott\, dem Vater und dem Heiligen Geist zu berichten. Diese Erlebnisse stärken unseren Glauben. \nNach dem Gottesdienst können wir am Kirchencafé miteinander reden oder auch die Angebote des Büchertisches in Anspruch nehmen.
URL:https://efg-coburg.de/event/gottesdienst-copy-2/2026-09-20
LOCATION:Gemeindehaus EFG Coburg\, Eichhofweg 18\, Coburg\, Bayern\, 96450
ATTACH;FMTTYPE=image/jpeg:https://efg-coburg.de/wp-content/uploads/2024/06/Hero-1.jpg
END:VEVENT
BEGIN:VEVENT
DTSTART;TZID=Europe/Berlin:20260921T180000
DTEND;TZID=Europe/Berlin:20260921T180000
DTSTAMP:20260422T131919
CREATED:20241212T071326Z
LAST-MODIFIED:20241212T145751Z
UID:10000376-1790013600-1790013600@efg-coburg.de
SUMMARY:Gebet am Kreuz
DESCRIPTION:
URL:https://efg-coburg.de/event/gebet-am-kreuz-5/2026-09-21
LOCATION:Gemeindehaus EFG Coburg\, Eichhofweg 18\, Coburg\, Bayern\, 96450
ATTACH;FMTTYPE=image/jpeg:https://efg-coburg.de/wp-content/uploads/2024/06/prayer.jpg
END:VEVENT
BEGIN:VEVENT
DTSTART;TZID=Europe/Berlin:20260922T193000
DTEND;TZID=Europe/Berlin:20260922T203000
DTSTAMP:20260422T131919
CREATED:20241212T144047Z
LAST-MODIFIED:20241213T160224Z
UID:10000636-1790105400-1790109000@efg-coburg.de
SUMMARY:Gemeindegebet
DESCRIPTION:
URL:https://efg-coburg.de/event/gemeindegebet/2026-09-22
LOCATION:Gemeindehaus EFG Coburg\, Eichhofweg 18\, Coburg\, Bayern\, 96450
ATTACH;FMTTYPE=image/jpeg:https://efg-coburg.de/wp-content/uploads/2024/06/Angebote.jpg
END:VEVENT
BEGIN:VEVENT
DTSTART;TZID=Europe/Paris:20260927T100000
DTEND;TZID=Europe/Paris:20260927T113000
DTSTAMP:20260422T131919
CREATED:20241211T190315Z
LAST-MODIFIED:20241211T190400Z
UID:10000120-1790503200-1790508600@efg-coburg.de
SUMMARY:Gottesdienst
DESCRIPTION:Jeden Sonntag feiern wir gemeinsam Gottesdienst. Beginn ist um 10:00 Uhr. Jung und Alt kommen zusammen\, um Gott zu erleben\, Gemeinschaft zu haben\, gemeinsam zu singen\, zu beten und auf die Predigt zu hören. Manchmal ist der Gottesdienst auch geprägt von besonderen Elementen\, wie Theaterspiel oder besonderen musikalischen Beiträgen. \nWährend des Gottesdienstes findet für Kinder ab drei Jahren ein altersgerechter Kindergottesdienst statt. Unser Kindergottesdienstteam gestaltet mit viel Liebe und Ideenreichtum diese Veranstaltung. Jüngere Kinder können mit Eltern in unserem Aquarium (Eltern-Kind-Raum) spielen und gleichzeitig am Gottesdienst teilnehmen. Tonübertragung und ein großes Sichtfenster ermöglichen die ungestörte Teilnahme. \nAn jedem ersten Sonntag im Monat feiern wir mit Brot und Traubensaft das Abendmahl. Hier können wir Gott intensiv erfahren. Der letzte Sonntag im Monat bietet den Gottesdienstbesuchern die Möglichkeit\, von ihren persönlichen Erfahrungen mit Jesus Christus\, Gott\, dem Vater und dem Heiligen Geist zu berichten. Diese Erlebnisse stärken unseren Glauben. \nNach dem Gottesdienst können wir am Kirchencafé miteinander reden oder auch die Angebote des Büchertisches in Anspruch nehmen.
URL:https://efg-coburg.de/event/gottesdienst-copy-2/2026-09-27
LOCATION:Gemeindehaus EFG Coburg\, Eichhofweg 18\, Coburg\, Bayern\, 96450
ATTACH;FMTTYPE=image/jpeg:https://efg-coburg.de/wp-content/uploads/2024/06/Hero-1.jpg
END:VEVENT
BEGIN:VEVENT
DTSTART;TZID=Europe/Berlin:20260928T180000
DTEND;TZID=Europe/Berlin:20260928T180000
DTSTAMP:20260422T131919
CREATED:20241212T071326Z
LAST-MODIFIED:20241212T145751Z
UID:10000377-1790618400-1790618400@efg-coburg.de
SUMMARY:Gebet am Kreuz
DESCRIPTION:
URL:https://efg-coburg.de/event/gebet-am-kreuz-5/2026-09-28
LOCATION:Gemeindehaus EFG Coburg\, Eichhofweg 18\, Coburg\, Bayern\, 96450
ATTACH;FMTTYPE=image/jpeg:https://efg-coburg.de/wp-content/uploads/2024/06/prayer.jpg
END:VEVENT
BEGIN:VEVENT
DTSTART;TZID=Europe/Berlin:20260929T193000
DTEND;TZID=Europe/Berlin:20260929T203000
DTSTAMP:20260422T131919
CREATED:20241212T144047Z
LAST-MODIFIED:20241213T160224Z
UID:10000637-1790710200-1790713800@efg-coburg.de
SUMMARY:Gemeindegebet
DESCRIPTION:
URL:https://efg-coburg.de/event/gemeindegebet/2026-09-29
LOCATION:Gemeindehaus EFG Coburg\, Eichhofweg 18\, Coburg\, Bayern\, 96450
ATTACH;FMTTYPE=image/jpeg:https://efg-coburg.de/wp-content/uploads/2024/06/Angebote.jpg
END:VEVENT
BEGIN:VEVENT
DTSTART;TZID=Europe/Paris:20261004T100000
DTEND;TZID=Europe/Paris:20261004T113000
DTSTAMP:20260422T131919
CREATED:20241211T190315Z
LAST-MODIFIED:20241211T190400Z
UID:10000121-1791108000-1791113400@efg-coburg.de
SUMMARY:Gottesdienst
DESCRIPTION:Jeden Sonntag feiern wir gemeinsam Gottesdienst. Beginn ist um 10:00 Uhr. Jung und Alt kommen zusammen\, um Gott zu erleben\, Gemeinschaft zu haben\, gemeinsam zu singen\, zu beten und auf die Predigt zu hören. Manchmal ist der Gottesdienst auch geprägt von besonderen Elementen\, wie Theaterspiel oder besonderen musikalischen Beiträgen. \nWährend des Gottesdienstes findet für Kinder ab drei Jahren ein altersgerechter Kindergottesdienst statt. Unser Kindergottesdienstteam gestaltet mit viel Liebe und Ideenreichtum diese Veranstaltung. Jüngere Kinder können mit Eltern in unserem Aquarium (Eltern-Kind-Raum) spielen und gleichzeitig am Gottesdienst teilnehmen. Tonübertragung und ein großes Sichtfenster ermöglichen die ungestörte Teilnahme. \nAn jedem ersten Sonntag im Monat feiern wir mit Brot und Traubensaft das Abendmahl. Hier können wir Gott intensiv erfahren. Der letzte Sonntag im Monat bietet den Gottesdienstbesuchern die Möglichkeit\, von ihren persönlichen Erfahrungen mit Jesus Christus\, Gott\, dem Vater und dem Heiligen Geist zu berichten. Diese Erlebnisse stärken unseren Glauben. \nNach dem Gottesdienst können wir am Kirchencafé miteinander reden oder auch die Angebote des Büchertisches in Anspruch nehmen.
URL:https://efg-coburg.de/event/gottesdienst-copy-2/2026-10-04
LOCATION:Gemeindehaus EFG Coburg\, Eichhofweg 18\, Coburg\, Bayern\, 96450
ATTACH;FMTTYPE=image/jpeg:https://efg-coburg.de/wp-content/uploads/2024/06/Hero-1.jpg
END:VEVENT
BEGIN:VEVENT
DTSTART;TZID=Europe/Berlin:20261005T180000
DTEND;TZID=Europe/Berlin:20261005T180000
DTSTAMP:20260422T131919
CREATED:20241212T071326Z
LAST-MODIFIED:20241212T145751Z
UID:10000378-1791223200-1791223200@efg-coburg.de
SUMMARY:Gebet am Kreuz
DESCRIPTION:
URL:https://efg-coburg.de/event/gebet-am-kreuz-5/2026-10-05
LOCATION:Gemeindehaus EFG Coburg\, Eichhofweg 18\, Coburg\, Bayern\, 96450
ATTACH;FMTTYPE=image/jpeg:https://efg-coburg.de/wp-content/uploads/2024/06/prayer.jpg
END:VEVENT
BEGIN:VEVENT
DTSTART;TZID=Europe/Berlin:20261006T193000
DTEND;TZID=Europe/Berlin:20261006T203000
DTSTAMP:20260422T131919
CREATED:20241212T144047Z
LAST-MODIFIED:20241213T160224Z
UID:10000638-1791315000-1791318600@efg-coburg.de
SUMMARY:Gemeindegebet
DESCRIPTION:
URL:https://efg-coburg.de/event/gemeindegebet/2026-10-06
LOCATION:Gemeindehaus EFG Coburg\, Eichhofweg 18\, Coburg\, Bayern\, 96450
ATTACH;FMTTYPE=image/jpeg:https://efg-coburg.de/wp-content/uploads/2024/06/Angebote.jpg
END:VEVENT
BEGIN:VEVENT
DTSTART;TZID=Europe/Paris:20261011T100000
DTEND;TZID=Europe/Paris:20261011T113000
DTSTAMP:20260422T131919
CREATED:20241211T190315Z
LAST-MODIFIED:20241211T190400Z
UID:10000122-1791712800-1791718200@efg-coburg.de
SUMMARY:Gottesdienst
DESCRIPTION:Jeden Sonntag feiern wir gemeinsam Gottesdienst. Beginn ist um 10:00 Uhr. Jung und Alt kommen zusammen\, um Gott zu erleben\, Gemeinschaft zu haben\, gemeinsam zu singen\, zu beten und auf die Predigt zu hören. Manchmal ist der Gottesdienst auch geprägt von besonderen Elementen\, wie Theaterspiel oder besonderen musikalischen Beiträgen. \nWährend des Gottesdienstes findet für Kinder ab drei Jahren ein altersgerechter Kindergottesdienst statt. Unser Kindergottesdienstteam gestaltet mit viel Liebe und Ideenreichtum diese Veranstaltung. Jüngere Kinder können mit Eltern in unserem Aquarium (Eltern-Kind-Raum) spielen und gleichzeitig am Gottesdienst teilnehmen. Tonübertragung und ein großes Sichtfenster ermöglichen die ungestörte Teilnahme. \nAn jedem ersten Sonntag im Monat feiern wir mit Brot und Traubensaft das Abendmahl. Hier können wir Gott intensiv erfahren. Der letzte Sonntag im Monat bietet den Gottesdienstbesuchern die Möglichkeit\, von ihren persönlichen Erfahrungen mit Jesus Christus\, Gott\, dem Vater und dem Heiligen Geist zu berichten. Diese Erlebnisse stärken unseren Glauben. \nNach dem Gottesdienst können wir am Kirchencafé miteinander reden oder auch die Angebote des Büchertisches in Anspruch nehmen.
URL:https://efg-coburg.de/event/gottesdienst-copy-2/2026-10-11
LOCATION:Gemeindehaus EFG Coburg\, Eichhofweg 18\, Coburg\, Bayern\, 96450
ATTACH;FMTTYPE=image/jpeg:https://efg-coburg.de/wp-content/uploads/2024/06/Hero-1.jpg
END:VEVENT
BEGIN:VEVENT
DTSTART;TZID=Europe/Berlin:20261012T180000
DTEND;TZID=Europe/Berlin:20261012T180000
DTSTAMP:20260422T131919
CREATED:20241212T071326Z
LAST-MODIFIED:20241212T145751Z
UID:10000379-1791828000-1791828000@efg-coburg.de
SUMMARY:Gebet am Kreuz
DESCRIPTION:
URL:https://efg-coburg.de/event/gebet-am-kreuz-5/2026-10-12
LOCATION:Gemeindehaus EFG Coburg\, Eichhofweg 18\, Coburg\, Bayern\, 96450
ATTACH;FMTTYPE=image/jpeg:https://efg-coburg.de/wp-content/uploads/2024/06/prayer.jpg
END:VEVENT
BEGIN:VEVENT
DTSTART;TZID=Europe/Berlin:20261013T193000
DTEND;TZID=Europe/Berlin:20261013T203000
DTSTAMP:20260422T131919
CREATED:20241212T144047Z
LAST-MODIFIED:20241213T160224Z
UID:10000639-1791919800-1791923400@efg-coburg.de
SUMMARY:Gemeindegebet
DESCRIPTION:
URL:https://efg-coburg.de/event/gemeindegebet/2026-10-13
LOCATION:Gemeindehaus EFG Coburg\, Eichhofweg 18\, Coburg\, Bayern\, 96450
ATTACH;FMTTYPE=image/jpeg:https://efg-coburg.de/wp-content/uploads/2024/06/Angebote.jpg
END:VEVENT
BEGIN:VEVENT
DTSTART;TZID=Europe/Paris:20261018T100000
DTEND;TZID=Europe/Paris:20261018T113000
DTSTAMP:20260422T131919
CREATED:20241211T190315Z
LAST-MODIFIED:20241211T190400Z
UID:10000123-1792317600-1792323000@efg-coburg.de
SUMMARY:Gottesdienst
DESCRIPTION:Jeden Sonntag feiern wir gemeinsam Gottesdienst. Beginn ist um 10:00 Uhr. Jung und Alt kommen zusammen\, um Gott zu erleben\, Gemeinschaft zu haben\, gemeinsam zu singen\, zu beten und auf die Predigt zu hören. Manchmal ist der Gottesdienst auch geprägt von besonderen Elementen\, wie Theaterspiel oder besonderen musikalischen Beiträgen. \nWährend des Gottesdienstes findet für Kinder ab drei Jahren ein altersgerechter Kindergottesdienst statt. Unser Kindergottesdienstteam gestaltet mit viel Liebe und Ideenreichtum diese Veranstaltung. Jüngere Kinder können mit Eltern in unserem Aquarium (Eltern-Kind-Raum) spielen und gleichzeitig am Gottesdienst teilnehmen. Tonübertragung und ein großes Sichtfenster ermöglichen die ungestörte Teilnahme. \nAn jedem ersten Sonntag im Monat feiern wir mit Brot und Traubensaft das Abendmahl. Hier können wir Gott intensiv erfahren. Der letzte Sonntag im Monat bietet den Gottesdienstbesuchern die Möglichkeit\, von ihren persönlichen Erfahrungen mit Jesus Christus\, Gott\, dem Vater und dem Heiligen Geist zu berichten. Diese Erlebnisse stärken unseren Glauben. \nNach dem Gottesdienst können wir am Kirchencafé miteinander reden oder auch die Angebote des Büchertisches in Anspruch nehmen.
URL:https://efg-coburg.de/event/gottesdienst-copy-2/2026-10-18
LOCATION:Gemeindehaus EFG Coburg\, Eichhofweg 18\, Coburg\, Bayern\, 96450
ATTACH;FMTTYPE=image/jpeg:https://efg-coburg.de/wp-content/uploads/2024/06/Hero-1.jpg
END:VEVENT
BEGIN:VEVENT
DTSTART;TZID=Europe/Berlin:20261019T180000
DTEND;TZID=Europe/Berlin:20261019T180000
DTSTAMP:20260422T131919
CREATED:20241212T071326Z
LAST-MODIFIED:20241212T145751Z
UID:10000380-1792432800-1792432800@efg-coburg.de
SUMMARY:Gebet am Kreuz
DESCRIPTION:
URL:https://efg-coburg.de/event/gebet-am-kreuz-5/2026-10-19
LOCATION:Gemeindehaus EFG Coburg\, Eichhofweg 18\, Coburg\, Bayern\, 96450
ATTACH;FMTTYPE=image/jpeg:https://efg-coburg.de/wp-content/uploads/2024/06/prayer.jpg
END:VEVENT
BEGIN:VEVENT
DTSTART;TZID=Europe/Berlin:20261020T193000
DTEND;TZID=Europe/Berlin:20261020T203000
DTSTAMP:20260422T131919
CREATED:20241212T144047Z
LAST-MODIFIED:20241213T160224Z
UID:10000640-1792524600-1792528200@efg-coburg.de
SUMMARY:Gemeindegebet
DESCRIPTION:
URL:https://efg-coburg.de/event/gemeindegebet/2026-10-20
LOCATION:Gemeindehaus EFG Coburg\, Eichhofweg 18\, Coburg\, Bayern\, 96450
ATTACH;FMTTYPE=image/jpeg:https://efg-coburg.de/wp-content/uploads/2024/06/Angebote.jpg
END:VEVENT
END:VCALENDAR