BEGIN:VCALENDAR
VERSION:2.0
PRODID:-//EFG Coburg - ECPv6.15.20//NONSGML v1.0//EN
CALSCALE:GREGORIAN
METHOD:PUBLISH
X-WR-CALNAME:EFG Coburg
X-ORIGINAL-URL:https://efg-coburg.de
X-WR-CALDESC:Veranstaltungen für EFG Coburg
REFRESH-INTERVAL;VALUE=DURATION:PT1H
X-Robots-Tag:noindex
X-PUBLISHED-TTL:PT1H
BEGIN:VTIMEZONE
TZID:Europe/Berlin
BEGIN:DAYLIGHT
TZOFFSETFROM:+0100
TZOFFSETTO:+0200
TZNAME:CEST
DTSTART:20250330T010000
END:DAYLIGHT
BEGIN:STANDARD
TZOFFSETFROM:+0200
TZOFFSETTO:+0100
TZNAME:CET
DTSTART:20251026T010000
END:STANDARD
BEGIN:DAYLIGHT
TZOFFSETFROM:+0100
TZOFFSETTO:+0200
TZNAME:CEST
DTSTART:20260329T010000
END:DAYLIGHT
BEGIN:STANDARD
TZOFFSETFROM:+0200
TZOFFSETTO:+0100
TZNAME:CET
DTSTART:20261025T010000
END:STANDARD
BEGIN:DAYLIGHT
TZOFFSETFROM:+0100
TZOFFSETTO:+0200
TZNAME:CEST
DTSTART:20270328T010000
END:DAYLIGHT
BEGIN:STANDARD
TZOFFSETFROM:+0200
TZOFFSETTO:+0100
TZNAME:CET
DTSTART:20271031T010000
END:STANDARD
END:VTIMEZONE
BEGIN:VEVENT
DTSTART;TZID=Europe/Berlin:20260420T180000
DTEND;TZID=Europe/Berlin:20260420T180000
DTSTAMP:20260420T120814
CREATED:20241212T071326Z
LAST-MODIFIED:20241212T145751Z
UID:10000354-1776708000-1776708000@efg-coburg.de
SUMMARY:Gebet am Kreuz
DESCRIPTION:
URL:https://efg-coburg.de/event/gebet-am-kreuz-5/2026-04-20
LOCATION:Gemeindehaus EFG Coburg\, Eichhofweg 18\, Coburg\, Bayern\, 96450
ATTACH;FMTTYPE=image/jpeg:https://efg-coburg.de/wp-content/uploads/2024/06/prayer.jpg
END:VEVENT
END:VCALENDAR